BEGIN:VCALENDAR
VERSION:2.0
PRODID:-//Charles Street Area Corporation - ECPv6.15.20//NONSGML v1.0//EN
CALSCALE:GREGORIAN
METHOD:PUBLISH
X-WR-CALNAME:Charles Street Area Corporation
X-ORIGINAL-URL:https://csacpa.org
X-WR-CALDESC:Events for Charles Street Area Corporation
REFRESH-INTERVAL;VALUE=DURATION:PT1H
X-Robots-Tag:noindex
X-PUBLISHED-TTL:PT1H
BEGIN:VTIMEZONE
TZID:America/New_York
BEGIN:DAYLIGHT
TZOFFSETFROM:-0500
TZOFFSETTO:-0400
TZNAME:EDT
DTSTART:20210314T070000
END:DAYLIGHT
BEGIN:STANDARD
TZOFFSETFROM:-0400
TZOFFSETTO:-0500
TZNAME:EST
DTSTART:20211107T060000
END:STANDARD
BEGIN:DAYLIGHT
TZOFFSETFROM:-0500
TZOFFSETTO:-0400
TZNAME:EDT
DTSTART:20220313T070000
END:DAYLIGHT
BEGIN:STANDARD
TZOFFSETFROM:-0400
TZOFFSETTO:-0500
TZNAME:EST
DTSTART:20221106T060000
END:STANDARD
BEGIN:DAYLIGHT
TZOFFSETFROM:-0500
TZOFFSETTO:-0400
TZNAME:EDT
DTSTART:20230312T070000
END:DAYLIGHT
BEGIN:STANDARD
TZOFFSETFROM:-0400
TZOFFSETTO:-0500
TZNAME:EST
DTSTART:20231105T060000
END:STANDARD
END:VTIMEZONE
BEGIN:VEVENT
DTSTART;TZID=America/New_York:20220622T183000
DTEND;TZID=America/New_York:20220622T193000
DTSTAMP:20260423T203858
CREATED:20220630T013732Z
LAST-MODIFIED:20220630T014040Z
UID:693-1655922600-1655926200@csacpa.org
SUMMARY:Governance Committee Meeting: June 2022
DESCRIPTION:Description\nThe Board Governance Committee will convene to review and update the bylaws for the Charles Street Area Corporation. Revisions will be voted on at our Board of Directors meeting in July\, and will be reflected in the meeting minutes for that session. \n \n \n\n			\n \n\n\n\nmore info\nWe post the meeting minutes and agendas from these sessions on our Board page so that you can stay informed! \nCheck the Event Calendar for our bi-monthly community meetings\, which any resident or stakeholder may attend.
URL:https://csacpa.org/event/governance-meeting-june-2022/
LOCATION:Virtual: Zoom
CATEGORIES:Board Meeting
ATTACH;FMTTYPE=image/jpeg:https://csacpa.org/wp-content/uploads/2022/06/pexels-cytonn-photography-955389-Medium.jpg
END:VEVENT
END:VCALENDAR