BEGIN:VCALENDAR
VERSION:2.0
PRODID:-//Charles Street Area Corporation - ECPv6.15.20//NONSGML v1.0//EN
CALSCALE:GREGORIAN
METHOD:PUBLISH
X-WR-CALNAME:Charles Street Area Corporation
X-ORIGINAL-URL:https://csacpa.org
X-WR-CALDESC:Events for Charles Street Area Corporation
REFRESH-INTERVAL;VALUE=DURATION:PT1H
X-Robots-Tag:noindex
X-PUBLISHED-TTL:PT1H
BEGIN:VTIMEZONE
TZID:America/New_York
BEGIN:DAYLIGHT
TZOFFSETFROM:-0500
TZOFFSETTO:-0400
TZNAME:EDT
DTSTART:20210314T070000
END:DAYLIGHT
BEGIN:STANDARD
TZOFFSETFROM:-0400
TZOFFSETTO:-0500
TZNAME:EST
DTSTART:20211107T060000
END:STANDARD
BEGIN:DAYLIGHT
TZOFFSETFROM:-0500
TZOFFSETTO:-0400
TZNAME:EDT
DTSTART:20220313T070000
END:DAYLIGHT
BEGIN:STANDARD
TZOFFSETFROM:-0400
TZOFFSETTO:-0500
TZNAME:EST
DTSTART:20221106T060000
END:STANDARD
BEGIN:DAYLIGHT
TZOFFSETFROM:-0500
TZOFFSETTO:-0400
TZNAME:EDT
DTSTART:20230312T070000
END:DAYLIGHT
BEGIN:STANDARD
TZOFFSETFROM:-0400
TZOFFSETTO:-0500
TZNAME:EST
DTSTART:20231105T060000
END:STANDARD
END:VTIMEZONE
BEGIN:VEVENT
DTSTART;TZID=America/New_York:20220712T180000
DTEND;TZID=America/New_York:20220712T193000
DTSTAMP:20260423T185812
CREATED:20220630T004900Z
LAST-MODIFIED:20220630T005938Z
UID:656-1657648800-1657654200@csacpa.org
SUMMARY:CSAC Board Meeting: July 2022
DESCRIPTION:Description\nThe CSAC Board of Directors meets monthly to share project updates\, discuss community concerns and priorities\, and plan initiatives. These meetings are attended by members of the board\, as well as partners\, guest speakers\, and local government representatives. \n \n \n\n			\n \n\n\n\nmore info\nWe post the meeting minutes and agendas from these sessions on our Board page so that you can stay informed! \nCheck the Event Calendar for our bi-monthly community meetings\, which any resident or stakeholder may attend.
URL:https://csacpa.org/event/csac-board-meeting/
LOCATION:Virtual: Zoom
CATEGORIES:Board Meeting
ATTACH;FMTTYPE=image/jpeg:https://csacpa.org/wp-content/uploads/2022/06/pexels-fauxels-3183186-Medium.jpg
END:VEVENT
END:VCALENDAR