BEGIN:VCALENDAR
VERSION:2.0
PRODID:-//Charles Street Area Corporation - ECPv6.15.20//NONSGML v1.0//EN
CALSCALE:GREGORIAN
METHOD:PUBLISH
X-ORIGINAL-URL:https://csacpa.org
X-WR-CALDESC:Events for Charles Street Area Corporation
REFRESH-INTERVAL;VALUE=DURATION:PT1H
X-Robots-Tag:noindex
X-PUBLISHED-TTL:PT1H
BEGIN:VTIMEZONE
TZID:America/New_York
BEGIN:DAYLIGHT
TZOFFSETFROM:-0500
TZOFFSETTO:-0400
TZNAME:EDT
DTSTART:20210314T070000
END:DAYLIGHT
BEGIN:STANDARD
TZOFFSETFROM:-0400
TZOFFSETTO:-0500
TZNAME:EST
DTSTART:20211107T060000
END:STANDARD
BEGIN:DAYLIGHT
TZOFFSETFROM:-0500
TZOFFSETTO:-0400
TZNAME:EDT
DTSTART:20220313T070000
END:DAYLIGHT
BEGIN:STANDARD
TZOFFSETFROM:-0400
TZOFFSETTO:-0500
TZNAME:EST
DTSTART:20221106T060000
END:STANDARD
BEGIN:DAYLIGHT
TZOFFSETFROM:-0500
TZOFFSETTO:-0400
TZNAME:EDT
DTSTART:20230312T070000
END:DAYLIGHT
BEGIN:STANDARD
TZOFFSETFROM:-0400
TZOFFSETTO:-0500
TZNAME:EST
DTSTART:20231105T060000
END:STANDARD
END:VTIMEZONE
BEGIN:VEVENT
DTSTART;TZID=America/New_York:20220806T110000
DTEND;TZID=America/New_York:20220806T130000
DTSTAMP:20260423T171605
CREATED:20220718T142113Z
LAST-MODIFIED:20220718T142605Z
UID:762-1659783600-1659790800@csacpa.org
SUMMARY:Sports Heroes and Making a Life in the Charles Street Valley
DESCRIPTION:Description\nLearn about Negro League Baseball heritage\, the former Pleasant Valley\, and more on this Northside tour by the Allegheny City Society honoring Josh Gibson. \nThis tour is free\, but a $5 donation is encouraged. \n \n \n\n			\n \n\n\n\n how to join\nMeet at the Negro League Murals on “The Corner of Hope” at the intersection of Wilson Avenue and Burgess Street in Perry Hilltop. Tour begins at 11:00 am. \nRSVP by email at: acsannualmeeting@gmail.com
URL:https://csacpa.org/event/sports-heroes-and-making-a-life-in-the-charles-street-valley-2/
CATEGORIES:Community Event
ATTACH;FMTTYPE=image/jpeg:https://csacpa.org/wp-content/uploads/2022/07/Baseball.jpg
END:VEVENT
END:VCALENDAR