BEGIN:VCALENDAR
VERSION:2.0
PRODID:-//Charles Street Area Corporation - ECPv6.15.20//NONSGML v1.0//EN
CALSCALE:GREGORIAN
METHOD:PUBLISH
X-ORIGINAL-URL:https://csacpa.org
X-WR-CALDESC:Events for Charles Street Area Corporation
REFRESH-INTERVAL;VALUE=DURATION:PT1H
X-Robots-Tag:noindex
X-PUBLISHED-TTL:PT1H
BEGIN:VTIMEZONE
TZID:America/New_York
BEGIN:DAYLIGHT
TZOFFSETFROM:-0500
TZOFFSETTO:-0400
TZNAME:EDT
DTSTART:20210314T070000
END:DAYLIGHT
BEGIN:STANDARD
TZOFFSETFROM:-0400
TZOFFSETTO:-0500
TZNAME:EST
DTSTART:20211107T060000
END:STANDARD
BEGIN:DAYLIGHT
TZOFFSETFROM:-0500
TZOFFSETTO:-0400
TZNAME:EDT
DTSTART:20220313T070000
END:DAYLIGHT
BEGIN:STANDARD
TZOFFSETFROM:-0400
TZOFFSETTO:-0500
TZNAME:EST
DTSTART:20221106T060000
END:STANDARD
BEGIN:DAYLIGHT
TZOFFSETFROM:-0500
TZOFFSETTO:-0400
TZNAME:EDT
DTSTART:20230312T070000
END:DAYLIGHT
BEGIN:STANDARD
TZOFFSETFROM:-0400
TZOFFSETTO:-0500
TZNAME:EST
DTSTART:20231105T060000
END:STANDARD
END:VTIMEZONE
BEGIN:VEVENT
DTSTART;TZID=America/New_York:20220818T140000
DTEND;TZID=America/New_York:20220818T180000
DTSTAMP:20260423T171642
CREATED:20220818T010044Z
LAST-MODIFIED:20220818T011657Z
UID:846-1660831200-1660845600@csacpa.org
SUMMARY:Back to School SPLASH
DESCRIPTION:Description\nJoin us for freebies\, food\, and fun as we celebrate the end of summer and get ready for back to school at Sue Murray Pool and Playground! Activities will include: \n \n\nSchool supplies and book giveaways\nFace painting\nArts and crafts\nMusic\nFood\nSWIMMING!\n\n*The pool will be open until 6:00 pm!* \nNo RSVP required. \nWe’re so excited to be able to gather at the Sue Murray Pool\, which was at risk of remaining closed this summer. Thanks to advocacy from our community members\, children and families were able to gather at the pool and enjoy their neighborhood throughout the summer.
URL:https://csacpa.org/event/back-to-school-splash/
LOCATION:Sue Murray Pool\, 301 Cedar Avenue\, Pittsburgh\, 15212\, United States
CATEGORIES:Community Event
ATTACH;FMTTYPE=image/jpeg:https://csacpa.org/wp-content/uploads/2022/08/Back-to-School-Splash-2.jpg
END:VEVENT
END:VCALENDAR