BEGIN:VCALENDAR
VERSION:2.0
PRODID:-//Charles Street Area Corporation - ECPv6.15.20//NONSGML v1.0//EN
CALSCALE:GREGORIAN
METHOD:PUBLISH
X-WR-CALNAME:Charles Street Area Corporation
X-ORIGINAL-URL:https://csacpa.org
X-WR-CALDESC:Events for Charles Street Area Corporation
REFRESH-INTERVAL;VALUE=DURATION:PT1H
X-Robots-Tag:noindex
X-PUBLISHED-TTL:PT1H
BEGIN:VTIMEZONE
TZID:America/New_York
BEGIN:DAYLIGHT
TZOFFSETFROM:-0500
TZOFFSETTO:-0400
TZNAME:EDT
DTSTART:20210314T070000
END:DAYLIGHT
BEGIN:STANDARD
TZOFFSETFROM:-0400
TZOFFSETTO:-0500
TZNAME:EST
DTSTART:20211107T060000
END:STANDARD
BEGIN:DAYLIGHT
TZOFFSETFROM:-0500
TZOFFSETTO:-0400
TZNAME:EDT
DTSTART:20220313T070000
END:DAYLIGHT
BEGIN:STANDARD
TZOFFSETFROM:-0400
TZOFFSETTO:-0500
TZNAME:EST
DTSTART:20221106T060000
END:STANDARD
BEGIN:DAYLIGHT
TZOFFSETFROM:-0500
TZOFFSETTO:-0400
TZNAME:EDT
DTSTART:20230312T070000
END:DAYLIGHT
BEGIN:STANDARD
TZOFFSETFROM:-0400
TZOFFSETTO:-0500
TZNAME:EST
DTSTART:20231105T060000
END:STANDARD
END:VTIMEZONE
BEGIN:VEVENT
DTSTART;TZID=America/New_York:20220824T120000
DTEND;TZID=America/New_York:20220824T130000
DTSTAMP:20260423T171507
CREATED:20220817T233602Z
LAST-MODIFIED:20220818T001313Z
UID:831-1661342400-1661346000@csacpa.org
SUMMARY:Choice Housing Taskforce Meeting
DESCRIPTION:Description\nChoice Neighborhoods is a planning process that will guide the future of Allegheny Dwellings and its connection to the neighborhoods around it including California-Kirkbride\, Charles Street\, Fineview and Perry Hilltop. The Housing Task Force will guide recommendations related to the redevelopment of Allegheny Dwellings resident’s homes.  \nDuring the meeting\, we will review the Parcel Analysis and Site Plan drafts provided by WRT Design. Residents and stakeholders will have an opportunity to ask questions\, share feedback\, and make recommendations. \n \n \n\n\n\n							\n								\n							\n						\n\n\nThe Parcel Analysis reviews ownership of lots in areas of interest for development. Lots may be owned privately\, by the city\, or by the URA. Lots may be vacant or occupied. \n \n \n \n \n\n\n\n							\n								\n							\n						\n\n\nThe Site Plan indicates whether a lot is recommended for development by WRT. Lots that do show potential development currently include townhomes. \n \n \n \n \n\n\nJoin via Zoom\nMeeting Link: https://us02web.zoom.us/j/2600219000 \nID: 808 626 3104 \nPlease RSVP on the Allegheny Dwellings Choice website. \n \n \n\n					RSVP\n				\n\n			\n \n\n\n\n\n							\n							\n						\n\n\n								 \n\nParcel Analysis\n \n \n\n								 \n\nSite Plan\n \n \n \n						\n							\n							Previous\n						\n						\n							\n							Next
URL:https://csacpa.org/event/choice-08-24-2022/
LOCATION:Virtual: Zoom
CATEGORIES:Choice Neighborhoods
ATTACH;FMTTYPE=image/jpeg:https://csacpa.org/wp-content/uploads/2022/08/Choice-08-24-22.jpg
END:VEVENT
END:VCALENDAR