BEGIN:VCALENDAR
VERSION:2.0
PRODID:-//Charles Street Area Corporation - ECPv6.15.20//NONSGML v1.0//EN
CALSCALE:GREGORIAN
METHOD:PUBLISH
X-ORIGINAL-URL:https://csacpa.org
X-WR-CALDESC:Events for Charles Street Area Corporation
REFRESH-INTERVAL;VALUE=DURATION:PT1H
X-Robots-Tag:noindex
X-PUBLISHED-TTL:PT1H
BEGIN:VTIMEZONE
TZID:America/New_York
BEGIN:DAYLIGHT
TZOFFSETFROM:-0500
TZOFFSETTO:-0400
TZNAME:EDT
DTSTART:20220313T070000
END:DAYLIGHT
BEGIN:STANDARD
TZOFFSETFROM:-0400
TZOFFSETTO:-0500
TZNAME:EST
DTSTART:20221106T060000
END:STANDARD
BEGIN:DAYLIGHT
TZOFFSETFROM:-0500
TZOFFSETTO:-0400
TZNAME:EDT
DTSTART:20230312T070000
END:DAYLIGHT
BEGIN:STANDARD
TZOFFSETFROM:-0400
TZOFFSETTO:-0500
TZNAME:EST
DTSTART:20231105T060000
END:STANDARD
BEGIN:DAYLIGHT
TZOFFSETFROM:-0500
TZOFFSETTO:-0400
TZNAME:EDT
DTSTART:20240310T070000
END:DAYLIGHT
BEGIN:STANDARD
TZOFFSETFROM:-0400
TZOFFSETTO:-0500
TZNAME:EST
DTSTART:20241103T060000
END:STANDARD
END:VTIMEZONE
BEGIN:VEVENT
DTSTART;TZID=America/New_York:20230202T180000
DTEND;TZID=America/New_York:20230202T200000
DTSTAMP:20260423T064544
CREATED:20230131T022010Z
LAST-MODIFIED:20230131T022010Z
UID:1160-1675360800-1675368000@csacpa.org
SUMMARY:Northside Public Safety Council Meeting
DESCRIPTION:Description\nThe Northside Public Safety Council meets on the first Thursday of each month in a hybrid format. Be part of the discussion! Make the Northside a safe place for us all. \nAttendees include the Zone 1 Commander\, Public Safety Director\, Zone 1 Community Resource Officers\, Housing Authority representatives\, Northside community residents\, and a variety of guests. \nLight refreshments will be provided for in-person attendees. \nLearn more about the Zone 1 Cares initiative. \n \n \n\n			\n \n\n\n\nJoin in person\nMattress Factory (Conference Room) \nPlease note: the conference room is not handicap accessible; the meeting will be moved to an accessible space soon. \n \n \n\n\nJoin via Zoom\nMeeting Link: https://us02web.zoom.us/j/84239059523?pwd=dm9QUzIvbStXa25lcGVzT1l0MU5ydz09 \nID: 842 3905 9523 \nPasscode: 057650
URL:https://csacpa.org/event/npsc-meeting/
LOCATION:Mattress Factory\, 505 Jacksonia Street\, Pittsburgh\, 15212
CATEGORIES:Community Meeting
ATTACH;FMTTYPE=image/png:https://csacpa.org/wp-content/uploads/2023/01/Zone-1-Logo.png
END:VEVENT
END:VCALENDAR