BEGIN:VCALENDAR
VERSION:2.0
PRODID:-//Charles Street Area Corporation - ECPv6.15.20//NONSGML v1.0//EN
CALSCALE:GREGORIAN
METHOD:PUBLISH
X-ORIGINAL-URL:https://csacpa.org
X-WR-CALDESC:Events for Charles Street Area Corporation
REFRESH-INTERVAL;VALUE=DURATION:PT1H
X-Robots-Tag:noindex
X-PUBLISHED-TTL:PT1H
BEGIN:VTIMEZONE
TZID:America/New_York
BEGIN:DAYLIGHT
TZOFFSETFROM:-0500
TZOFFSETTO:-0400
TZNAME:EDT
DTSTART:20210314T070000
END:DAYLIGHT
BEGIN:STANDARD
TZOFFSETFROM:-0400
TZOFFSETTO:-0500
TZNAME:EST
DTSTART:20211107T060000
END:STANDARD
BEGIN:DAYLIGHT
TZOFFSETFROM:-0500
TZOFFSETTO:-0400
TZNAME:EDT
DTSTART:20220313T070000
END:DAYLIGHT
BEGIN:STANDARD
TZOFFSETFROM:-0400
TZOFFSETTO:-0500
TZNAME:EST
DTSTART:20221106T060000
END:STANDARD
BEGIN:DAYLIGHT
TZOFFSETFROM:-0500
TZOFFSETTO:-0400
TZNAME:EDT
DTSTART:20230312T070000
END:DAYLIGHT
BEGIN:STANDARD
TZOFFSETFROM:-0400
TZOFFSETTO:-0500
TZNAME:EST
DTSTART:20231105T060000
END:STANDARD
END:VTIMEZONE
BEGIN:VEVENT
DTSTART;TZID=America/New_York:20220617T180000
DTEND;TZID=America/New_York:20220617T200000
DTSTAMP:20260419T141558
CREATED:20220630T014854Z
LAST-MODIFIED:20220630T015807Z
UID:697-1655488800-1655496000@csacpa.org
SUMMARY:Rally to Open Sue Murray Pool
DESCRIPTION:Sue Murray Pool is delayed from opening\, with Jack Stack and Riverview being the only pools open in the Northside.\n \n \n\n			\n\n		\n \n\n\n\n\n\n\n\nThe problem\nThe City of Pittsburgh is planning to open two pools in the Northside that serve a higher proportion of middle class and wealthy white residents\, while leaving a pool that serves lower and middle income black families closed. \nConcerns about violence and drug use in the neighborhood surrounding the pool and a shortage of lifeguards were listed as reasons for the delay. \n \n \n\n			\n \n\n\n\n our solutions\nJoin the Rally: Charles Street Valley residents are gathering with members of other Northside communities to peacefully demonstrate and raise our voices. We believe that opening the pool with safety measures in place will keep our community safe by positively engaging youth. \nSign the Petition: Click here to sign the petition to open Sue Murray Pool — be sure to share when you’re done!
URL:https://csacpa.org/event/rally-to-open-sue-murray-pool/
LOCATION:Sue Murray Pool\, 301 Cedar Avenue\, Pittsburgh\, 15212\, United States
CATEGORIES:Community Activism
ATTACH;FMTTYPE=image/jpeg:https://csacpa.org/wp-content/uploads/2022/06/SueMurrayRally_June2022_D1.jpg
END:VEVENT
END:VCALENDAR