BEGIN:VCALENDAR
VERSION:2.0
PRODID:-//Charles Street Area Corporation - ECPv6.15.20//NONSGML v1.0//EN
CALSCALE:GREGORIAN
METHOD:PUBLISH
X-WR-CALNAME:Charles Street Area Corporation
X-ORIGINAL-URL:https://csacpa.org
X-WR-CALDESC:Events for Charles Street Area Corporation
REFRESH-INTERVAL;VALUE=DURATION:PT1H
X-Robots-Tag:noindex
X-PUBLISHED-TTL:PT1H
BEGIN:VTIMEZONE
TZID:America/New_York
BEGIN:DAYLIGHT
TZOFFSETFROM:-0500
TZOFFSETTO:-0400
TZNAME:EDT
DTSTART:20210314T070000
END:DAYLIGHT
BEGIN:STANDARD
TZOFFSETFROM:-0400
TZOFFSETTO:-0500
TZNAME:EST
DTSTART:20211107T060000
END:STANDARD
BEGIN:DAYLIGHT
TZOFFSETFROM:-0500
TZOFFSETTO:-0400
TZNAME:EDT
DTSTART:20220313T070000
END:DAYLIGHT
BEGIN:STANDARD
TZOFFSETFROM:-0400
TZOFFSETTO:-0500
TZNAME:EST
DTSTART:20221106T060000
END:STANDARD
BEGIN:DAYLIGHT
TZOFFSETFROM:-0500
TZOFFSETTO:-0400
TZNAME:EDT
DTSTART:20230312T070000
END:DAYLIGHT
BEGIN:STANDARD
TZOFFSETFROM:-0400
TZOFFSETTO:-0500
TZNAME:EST
DTSTART:20231105T060000
END:STANDARD
BEGIN:DAYLIGHT
TZOFFSETFROM:-0500
TZOFFSETTO:-0400
TZNAME:EDT
DTSTART:20240310T070000
END:DAYLIGHT
BEGIN:STANDARD
TZOFFSETFROM:-0400
TZOFFSETTO:-0500
TZNAME:EST
DTSTART:20241103T060000
END:STANDARD
BEGIN:DAYLIGHT
TZOFFSETFROM:-0500
TZOFFSETTO:-0400
TZNAME:EDT
DTSTART:20250309T070000
END:DAYLIGHT
BEGIN:STANDARD
TZOFFSETFROM:-0400
TZOFFSETTO:-0500
TZNAME:EST
DTSTART:20251102T060000
END:STANDARD
END:VTIMEZONE
BEGIN:VEVENT
DTSTART;TZID=America/New_York:20240622T120000
DTEND;TZID=America/New_York:20240622T160000
DTSTAMP:20260419T140320
CREATED:20240620T211131Z
LAST-MODIFIED:20240620T211131Z
UID:2513-1719057600-1719072000@csacpa.org
SUMMARY:Community Celebration for Cross Strauss Parklet Grand Reopening
DESCRIPTION:Come join three Allegheny Dwellings Choice Neighborhoods as we celebrate the Grand Re-Opening of the newly renovated Strauss Cross Parklet. \n 
URL:https://csacpa.org/event/community-celebration-for-cross-strauss-parklet-grand-reopening/
LOCATION:Cross-Strauss Parklet\, 50 Strauss Street\, Pittsburgh\, PA\, 15214\, United States
CATEGORIES:Community Event
END:VEVENT
BEGIN:VEVENT
DTSTART;TZID=America/New_York:20230801T170000
DTEND;TZID=America/New_York:20230801T193000
DTSTAMP:20260419T140320
CREATED:20230720T145944Z
LAST-MODIFIED:20230720T145944Z
UID:1467-1690909200-1690918200@csacpa.org
SUMMARY:National Night Out at Fowler Park
DESCRIPTION:Description\nJoin us for an evening of fun during National Night Out (NNO) at Fowler Park in the Northside. The event will include food\, games\, and prizes for the whole family. Come sign-up for another CSV Pirates Game Night at PNC Park! \nMeet and greet with members of our local police and fire departments. Life saving information will be provided\, too!  \nFowler Park: North Charles Street at Wilson Avenue (15214) \n \n \n\n					\n				\n\n			\n \n\n\n\nwhat is national night out?\nNational Night Out is an annual campaign to promote relationship building and partnerships between communities and police that ultimately make our neighborhoods safer\, more caring places to live. \n \n \n\n\n\nNational Night Out enhances the relationship between neighbors and law enforcement while bringing back a true sense of community. Furthermore\, it provides a great opportunity to bring police and neighbors together under positive circumstances.  \n\n							National Night Out\, About Page
URL:https://csacpa.org/event/national-night-out-2023/
LOCATION:Fowler Park\, 2435 Wilson Avenue\, Pittsburgh\, PA\, 15214\, United States
CATEGORIES:Community Event
ATTACH;FMTTYPE=image/jpeg:https://csacpa.org/wp-content/uploads/2023/07/National-Night-Out-1.jpg
END:VEVENT
BEGIN:VEVENT
DTSTART;TZID=America/New_York:20230723T120000
DTEND;TZID=America/New_York:20230723T200000
DTSTAMP:20260419T140320
CREATED:20230712T005912Z
LAST-MODIFIED:20230712T010009Z
UID:1402-1690113600-1690142400@csacpa.org
SUMMARY:Charles Street Old Timers Community Picnic
DESCRIPTION:Description\nGet ready for the Function at the Junction! Pack up your favorite picnic items and come down to Riverview Park on Sunday\, July 23rd for a community event presented by the Charles Street Old Timers. \n \n \n\n\n🎵 Live DJ  |  🍺 Free Beer  |  🎫 50/50 Raffle \n🥪 Bring your own picnic basket and water! 🥤 \n12:00 PM to 8:00 PM \n \n \n\n\nFAMILY FUN\nThe Activities Building at Riverview Park is located between the playground and swimming pool areas. Go for a swim\, dry off on the swings\, then cool off inside. Restrooms are available inside. \n \n \n\n\nDon’t be a stranger! Get to know your neighbors.
URL:https://csacpa.org/event/old-timers-community-picnic/
LOCATION:Riverview Park Activities Building\, 182 Riverview Avenue\, Pittsburgh\, PA\, 15214\, United States
CATEGORIES:Community Event
ATTACH;FMTTYPE=image/jpeg:https://csacpa.org/wp-content/uploads/2023/07/Riverview-Park-Activities-Building-1.jpg
END:VEVENT
BEGIN:VEVENT
DTSTART;TZID=America/New_York:20230506T183500
DTEND;TZID=America/New_York:20230506T210000
DTSTAMP:20260419T140320
CREATED:20230428T011415Z
LAST-MODIFIED:20230428T145430Z
UID:1306-1683398100-1683406800@csacpa.org
SUMMARY:CSV Pirates Game Day
DESCRIPTION:Description\nWatch the Pirates beat the Blue Jays AND enjoy Zambelli Fireworks over the City at CSV Pirates Game Day! Tickets are also available for Friday\, May 5th (Free T-Shirt Night). \nThis is a family-focused event! Get to know your neighbors from the Charles Street Valley. \n \n \n\n			\n \n\n\n\nrequest tickets\nTickets for the game are generously provided by Tickets for Kids Charities. As such\, all adults attending must be chaperoning youth. \nEmail csac@csacpa.org by 5:00 PM on Friday\, April 28th to request tickets. Please include your contact information and how many youth and adult tickets you’d like to reserve.
URL:https://csacpa.org/event/csv-pirates-game-5-6-2023/
LOCATION:PNC Park\, 115 Federal Street\, Pittsburgh\, PA\, 15212\, United States
CATEGORIES:Community Event
ATTACH;FMTTYPE=image/jpeg:https://csacpa.org/wp-content/uploads/2023/04/CSV-Pirates-Game.jpg
END:VEVENT
BEGIN:VEVENT
DTSTART;TZID=America/New_York:20230505T183500
DTEND;TZID=America/New_York:20230505T210000
DTSTAMP:20260419T140320
CREATED:20230428T010714Z
LAST-MODIFIED:20230428T011412Z
UID:1294-1683311700-1683320400@csacpa.org
SUMMARY:CSV Pirates Game Day
DESCRIPTION:Description\nWatch the Pirates beat the Blue Jays AND get a classic 70s themed t-shirt at the first CSV Pirates Game Day of the year! Tickets are also available for Saturday\, May 6th (Zambelli Fireworks Night). \nThis is a family-focused event! Get to know your neighbors from the Charles Street Valley while enjoying the City. \n \n \n\n			\n \n\n\n\nrequest tickets\nTickets for the game are generously provided by Tickets for Kids Charities. As such\, all adults attending must be chaperoning youth.  \n \n \n \nEmail csac@csacpa.org by 5:00 PM on Friday\, April 28th to request tickets. Please include your contact information and how many youth and adult tickets you’d like to reserve.
URL:https://csacpa.org/event/csv-pirates-game-5-5-2023/
LOCATION:PNC Park\, 115 Federal Street\, Pittsburgh\, PA\, 15212\, United States
CATEGORIES:Community Event
ATTACH;FMTTYPE=image/jpeg:https://csacpa.org/wp-content/uploads/2023/04/CSV-Pirates-Game.jpg
END:VEVENT
BEGIN:VEVENT
DTSTART;TZID=America/New_York:20220818T140000
DTEND;TZID=America/New_York:20220818T180000
DTSTAMP:20260419T140320
CREATED:20220818T010044Z
LAST-MODIFIED:20220818T011657Z
UID:846-1660831200-1660845600@csacpa.org
SUMMARY:Back to School SPLASH
DESCRIPTION:Description\nJoin us for freebies\, food\, and fun as we celebrate the end of summer and get ready for back to school at Sue Murray Pool and Playground! Activities will include: \n \n\nSchool supplies and book giveaways\nFace painting\nArts and crafts\nMusic\nFood\nSWIMMING!\n\n*The pool will be open until 6:00 pm!* \nNo RSVP required. \nWe’re so excited to be able to gather at the Sue Murray Pool\, which was at risk of remaining closed this summer. Thanks to advocacy from our community members\, children and families were able to gather at the pool and enjoy their neighborhood throughout the summer.
URL:https://csacpa.org/event/back-to-school-splash/
LOCATION:Sue Murray Pool\, 301 Cedar Avenue\, Pittsburgh\, 15212\, United States
CATEGORIES:Community Event
ATTACH;FMTTYPE=image/jpeg:https://csacpa.org/wp-content/uploads/2022/08/Back-to-School-Splash-2.jpg
END:VEVENT
BEGIN:VEVENT
DTSTART;TZID=America/New_York:20220806T110000
DTEND;TZID=America/New_York:20220806T130000
DTSTAMP:20260419T140320
CREATED:20220718T142113Z
LAST-MODIFIED:20220718T142605Z
UID:762-1659783600-1659790800@csacpa.org
SUMMARY:Sports Heroes and Making a Life in the Charles Street Valley
DESCRIPTION:Description\nLearn about Negro League Baseball heritage\, the former Pleasant Valley\, and more on this Northside tour by the Allegheny City Society honoring Josh Gibson. \nThis tour is free\, but a $5 donation is encouraged. \n \n \n\n			\n \n\n\n\n how to join\nMeet at the Negro League Murals on “The Corner of Hope” at the intersection of Wilson Avenue and Burgess Street in Perry Hilltop. Tour begins at 11:00 am. \nRSVP by email at: acsannualmeeting@gmail.com
URL:https://csacpa.org/event/sports-heroes-and-making-a-life-in-the-charles-street-valley-2/
LOCATION:PA
CATEGORIES:Community Event
ATTACH;FMTTYPE=image/jpeg:https://csacpa.org/wp-content/uploads/2022/07/Baseball.jpg
END:VEVENT
BEGIN:VEVENT
DTSTART;TZID=America/New_York:20220802T163000
DTEND;TZID=America/New_York:20220802T193000
DTSTAMP:20260419T140320
CREATED:20220717T172555Z
LAST-MODIFIED:20230720T135840Z
UID:752-1659457800-1659468600@csacpa.org
SUMMARY:National Night Out at Fowler Park
DESCRIPTION:Description\nJoin us for an evening of fun during National Night Out at Fowler Park in the Northside. The event will include food\, face painting\, balloon animals\, a bouncy house\, and more! \nFowler Park: North Charles Street at Wilson Avenue (15214) \n \n \n\n					\n				\n\n			\n \n\n\n\nPartners\nThis event is made possible though partnerships between the following local organizations:  \nPropel Northside\nFineview Perry Hilltop\nUniversity of Pittsburgh School of Social Work\nBasketball Dreamz\nInfinite Lifestyle Solutions\nNorthside Partnership Project\nPittsburgh Higher Ground Foundation\nCharles Street Area Corporation
URL:https://csacpa.org/event/national-night-out-2022/
LOCATION:Fowler Park\, 2435 Wilson Avenue\, Pittsburgh\, PA\, 15214\, United States
CATEGORIES:Community Event
ATTACH;FMTTYPE=image/jpeg:https://csacpa.org/wp-content/uploads/2022/07/Balloon-Animal.jpg
END:VEVENT
END:VCALENDAR