BEGIN:VCALENDAR
VERSION:2.0
PRODID:-//Charles Street Area Corporation - ECPv6.15.20//NONSGML v1.0//EN
CALSCALE:GREGORIAN
METHOD:PUBLISH
X-ORIGINAL-URL:https://csacpa.org
X-WR-CALDESC:Events for Charles Street Area Corporation
REFRESH-INTERVAL;VALUE=DURATION:PT1H
X-Robots-Tag:noindex
X-PUBLISHED-TTL:PT1H
BEGIN:VTIMEZONE
TZID:America/New_York
BEGIN:DAYLIGHT
TZOFFSETFROM:-0500
TZOFFSETTO:-0400
TZNAME:EDT
DTSTART:20210314T070000
END:DAYLIGHT
BEGIN:STANDARD
TZOFFSETFROM:-0400
TZOFFSETTO:-0500
TZNAME:EST
DTSTART:20211107T060000
END:STANDARD
BEGIN:DAYLIGHT
TZOFFSETFROM:-0500
TZOFFSETTO:-0400
TZNAME:EDT
DTSTART:20220313T070000
END:DAYLIGHT
BEGIN:STANDARD
TZOFFSETFROM:-0400
TZOFFSETTO:-0500
TZNAME:EST
DTSTART:20221106T060000
END:STANDARD
BEGIN:DAYLIGHT
TZOFFSETFROM:-0500
TZOFFSETTO:-0400
TZNAME:EDT
DTSTART:20230312T070000
END:DAYLIGHT
BEGIN:STANDARD
TZOFFSETFROM:-0400
TZOFFSETTO:-0500
TZNAME:EST
DTSTART:20231105T060000
END:STANDARD
BEGIN:DAYLIGHT
TZOFFSETFROM:-0500
TZOFFSETTO:-0400
TZNAME:EDT
DTSTART:20240310T070000
END:DAYLIGHT
BEGIN:STANDARD
TZOFFSETFROM:-0400
TZOFFSETTO:-0500
TZNAME:EST
DTSTART:20241103T060000
END:STANDARD
BEGIN:DAYLIGHT
TZOFFSETFROM:-0500
TZOFFSETTO:-0400
TZNAME:EDT
DTSTART:20250309T070000
END:DAYLIGHT
BEGIN:STANDARD
TZOFFSETFROM:-0400
TZOFFSETTO:-0500
TZNAME:EST
DTSTART:20251102T060000
END:STANDARD
END:VTIMEZONE
BEGIN:VEVENT
DTSTART;TZID=America/New_York:20240514T183000
DTEND;TZID=America/New_York:20240514T200000
DTSTAMP:20260419T122915
CREATED:20240409T213133Z
LAST-MODIFIED:20240430T222517Z
UID:2312-1715711400-1715716800@csacpa.org
SUMMARY:CSV CommUNITY Meeting: April 2024
DESCRIPTION:Description\nJoin us for the Charles Street Valley CommUNITY meeting of the year! Get updates and share your feedback. \nTopics will include:  \n \n\nCross-Strauss Parklet & Greenway Re-Opening Party\nCSAC Homeownership Improvement Program\nCity 311 Complaints and Community Support\nSummer Health & Wellness Programs in the CSV\nEvents\, Volunteer Opportunities\, and Tickets for Kids\n\nInvited Guests: \n \n \n\nMayor’s Office\nCouncilman Daniel Lavelle\n\n \n \n\n			\n \n\n\n\nZoom & Facebook Live\nThough we hope our next meeting will be in-person\, this CommUNITY meeting will be held virtually on Zoom and Facebook Live. See below for joining details. \nJOIN ON ZOOM: \nMeeting Link: https://us02web.zoom.us/j/2600219000?pwd=MGNOUFM5cEhCOGZrdU1IOWZYdisyQT09 \nID: 260 021 9000 \nPasscode: 260021900 \nJOIN ON FACEBOOK: \nGo to the Charles Street Area Council page: https://www.facebook.com/CharlesStreetAreaCouncil/
URL:https://csacpa.org/event/csv-community-meeting-april-2024/
LOCATION:Virtual: Zoom
CATEGORIES:Community Meeting
ATTACH;FMTTYPE=image/jpeg:https://csacpa.org/wp-content/uploads/2023/09/Virtual-Community-Meeting.jpg
END:VEVENT
BEGIN:VEVENT
DTSTART;TZID=America/New_York:20231011T183000
DTEND;TZID=America/New_York:20231011T193000
DTSTAMP:20260419T122915
CREATED:20230922T003800Z
LAST-MODIFIED:20231011T184214Z
UID:1498-1697049000-1697052600@csacpa.org
SUMMARY:CSV CommUNITY Meeting: October 2023
DESCRIPTION:Description\nJoin us for a virtual community meeting to discuss development and opportunities in the Charles Street Valley. Learn about what’s happening and share your thoughts! \nTopics will include:  \n \n\nHousing Development (Flocker Street Collaborative)\nGreenway Development (Real Design & AJoseyArt)\nCross-Strauss Parklet Playground Opening\nAffordable Homeownership & Homeowner Assistance\n\nInvited Guests: \n \n \n\nMayor’s Office\nCouncilman Daniel Lavelle\nRichard Snipe (URA / PHDC)\n\n \n \n\n			\n \n\n\n\nJoin via Zoom\nMeeting Link: https://us02web.zoom.us/j/2600219000?pwd=MGNOUFM5cEhCOGZrdU1IOWZYdisyQT09 \nID: 260 021 9000 \nPasscode: 260021900 \n \n \n\n\nSign Up For…\n \n\nGreenway Stewardship ($25 per hour\, apply online)\nFree tickets for families (attend meeting to sign up)
URL:https://csacpa.org/event/csv-community-meeting-oct-2023/
LOCATION:Virtual: Zoom
CATEGORIES:Community Meeting
ATTACH;FMTTYPE=image/jpeg:https://csacpa.org/wp-content/uploads/2023/09/Virtual-Community-Meeting.jpg
END:VEVENT
BEGIN:VEVENT
DTSTART;TZID=America/New_York:20230425T180000
DTEND;TZID=America/New_York:20230425T193000
DTSTAMP:20260419T122915
CREATED:20230412T020427Z
LAST-MODIFIED:20230412T213249Z
UID:1283-1682445600-1682451000@csacpa.org
SUMMARY:CSV CommUNITY Meeting: April 2023
DESCRIPTION:Description\nJoin us for a community meeting to discuss Charles Street Valley developments. Featuring guest speakers from City of Pittsburgh Departments of City Planning and Public Works! \nTopics will include:  \n \n\nSafety\, health\, and wellness\nHUD Choice Neighborhoods update\nFinal design for Cross-Strauss playground\nNorth Charles Street Greenway planning\nNew housing developments\nGrants for homeowners and businesses\nBeautification and volunteer opportunities\nYouth and adult programming\n\n \n \n\n			\n \n\n\n\nJoin in person\nCross Strauss Playground (weather permitting) \nSnacks will be provided at the playground! \n \n \n\n\nJoin via Zoom\nMeeting Link: https://us02web.zoom.us/j/2600219000?pwd=MGNOUFM5cEhCOGZrdU1IOWZYdisyQT09 \nID: 260 021 9000 \nPasscode: 260021900
URL:https://csacpa.org/event/csv-community-meeting-april-2023/
LOCATION:Cross-Strauss Parklet\, 50 Strauss Street\, Pittsburgh\, PA\, 15214\, United States
CATEGORIES:Community Meeting
ATTACH;FMTTYPE=image/jpeg:https://csacpa.org/wp-content/uploads/2022/04/pexels-christina-morillo-1181622-scaled.jpg
END:VEVENT
BEGIN:VEVENT
DTSTART;TZID=America/New_York:20230202T180000
DTEND;TZID=America/New_York:20230202T200000
DTSTAMP:20260419T122915
CREATED:20230131T022010Z
LAST-MODIFIED:20230131T022010Z
UID:1160-1675360800-1675368000@csacpa.org
SUMMARY:Northside Public Safety Council Meeting
DESCRIPTION:Description\nThe Northside Public Safety Council meets on the first Thursday of each month in a hybrid format. Be part of the discussion! Make the Northside a safe place for us all. \nAttendees include the Zone 1 Commander\, Public Safety Director\, Zone 1 Community Resource Officers\, Housing Authority representatives\, Northside community residents\, and a variety of guests. \nLight refreshments will be provided for in-person attendees. \nLearn more about the Zone 1 Cares initiative. \n \n \n\n			\n \n\n\n\nJoin in person\nMattress Factory (Conference Room) \nPlease note: the conference room is not handicap accessible; the meeting will be moved to an accessible space soon. \n \n \n\n\nJoin via Zoom\nMeeting Link: https://us02web.zoom.us/j/84239059523?pwd=dm9QUzIvbStXa25lcGVzT1l0MU5ydz09 \nID: 842 3905 9523 \nPasscode: 057650
URL:https://csacpa.org/event/npsc-meeting/
LOCATION:Mattress Factory\, 505 Jacksonia Street\, Pittsburgh\, 15212
CATEGORIES:Community Meeting
ATTACH;FMTTYPE=image/png:https://csacpa.org/wp-content/uploads/2023/01/Zone-1-Logo.png
END:VEVENT
BEGIN:VEVENT
DTSTART;TZID=America/New_York:20221207T180000
DTEND;TZID=America/New_York:20221207T193000
DTSTAMP:20260419T122915
CREATED:20221207T215828Z
LAST-MODIFIED:20221207T215828Z
UID:1116-1670436000-1670441400@csacpa.org
SUMMARY:CSV Community Meeting: December 2022
DESCRIPTION:
URL:https://csacpa.org/event/csv-meeting-december-2022/
LOCATION:Virtual: Zoom
CATEGORIES:Community Meeting
ATTACH;FMTTYPE=image/jpeg:https://csacpa.org/wp-content/uploads/2022/04/pexels-christina-morillo-1181622-scaled.jpg
END:VEVENT
BEGIN:VEVENT
DTSTART;TZID=America/New_York:20221027T180000
DTEND;TZID=America/New_York:20221027T193000
DTSTAMP:20260419T122915
CREATED:20220630T012550Z
LAST-MODIFIED:20221017T140641Z
UID:687-1666893600-1666899000@csacpa.org
SUMMARY:CSV Community Meeting: October 2022
DESCRIPTION:Description\nShare your thoughts\, ask questions\, and hear updates about the Charles Street Valley during our community meeting! These meetings are held virtually\, every other month on the 4th Thursday of the month. \nAll residents and stakeholders are welcome!  \n \n \n\n			\n \n\n\n\nJoin via Zoom\nMeeting Link: https://us02web.zoom.us/j/2600219000?pwd=MGNOUFM5cEhCOGZrdU1IOWZYdisyQT09 \nID: 2600219000 \nPasscode: 260021900
URL:https://csacpa.org/event/csv-meeting-october-2022/
LOCATION:Virtual: Zoom
CATEGORIES:Community Meeting
ATTACH;FMTTYPE=image/jpeg:https://csacpa.org/wp-content/uploads/2022/04/pexels-christina-morillo-1181622-scaled.jpg
END:VEVENT
BEGIN:VEVENT
DTSTART;TZID=America/New_York:20221019T180000
DTEND;TZID=America/New_York:20221019T200000
DTSTAMP:20260419T122915
CREATED:20221017T221524Z
LAST-MODIFIED:20221020T221842Z
UID:975-1666202400-1666209600@csacpa.org
SUMMARY:Northside Leadership Conference Focus Group
DESCRIPTION:Description\nIs your Northside community group providing resources and services that you need? This is your opportunity to participate in a strategic planning conversation with the Northside Leadership Conference (NSLC). \nDo you need food? Job training? A therapist? Child care help? Mentoring programs for yourself and your teens? Better playgrounds? Vacant lots maintained? Rental or homebuyer assistance? Organized community events? \nTell the NSLC how they can serve you!  \n \n \n \n \n\n			\n \n\n\n\nBJ’s Event Center\nThis event is in person. Refreshments will be provided! \nAddress: 1439 Woods Run Avenue\, Pittsburgh\, PA 15212 \nDate: Wednesday\, October 19\, 2022 \nTime: 6:00 PM to 8:00 PM
URL:https://csacpa.org/event/nslc-focus-group/
LOCATION:BJ’s Event Center\, 1429 Woods Run Avenue\, Pittsburgh\, 15212\, United States
CATEGORIES:Community Meeting
ATTACH;FMTTYPE=image/jpeg:https://csacpa.org/wp-content/uploads/2022/10/NLC-Planning-Flyer.jpg
END:VEVENT
BEGIN:VEVENT
DTSTART;TZID=America/New_York:20221012T150000
DTEND;TZID=America/New_York:20221012T190000
DTSTAMP:20260419T122915
CREATED:20220920T222259Z
LAST-MODIFIED:20220920T222259Z
UID:894-1665586800-1665601200@csacpa.org
SUMMARY:Allegheny Dwellings Choice Neighborhoods Community Meeting
DESCRIPTION:Description\nAllegheny Dwellings Choice Neighborhoods Community Meeting. This will be an OPEN HOUSE style meeting to better serve diverse schedules. Come when you can and see what’s new with the Draft Plan! \n \n \n \n\n			\n \n\n\n\nJoin IN PERSON\nAllegheny Dwellings \n1710 Belleau Court – at the rear field and basketball court \nFor more information\, visit the Allegheny Dwellings Choice Neighborhoods website.
URL:https://csacpa.org/event/choice-neighborhoods-10-12-22/
LOCATION:Allegheny Dwellings\, 1710 Belleau Dr\, Pittsburgh\, 15212\, United States
CATEGORIES:Choice Neighborhoods,Community Meeting
ATTACH;FMTTYPE=image/jpeg:https://csacpa.org/wp-content/uploads/2022/09/CHOICE-MTG-10-12-22-.jpg
END:VEVENT
BEGIN:VEVENT
DTSTART;TZID=America/New_York:20220803T183000
DTEND;TZID=America/New_York:20220803T203000
DTSTAMP:20260419T122915
CREATED:20220729T013830Z
LAST-MODIFIED:20220729T014905Z
UID:776-1659551400-1659558600@csacpa.org
SUMMARY:Community Planning Session
DESCRIPTION:Description\nRSVP today for the final Charles Street Valley and California-Kirkbride community blueprint planning session with The Forbes Funds! Continuing in The Commons framework\, we’ll discuss solutions\, next steps\, and implementation. \nDon’t miss out on raffles & gift cards up to $500! \n \n \nRefreshments provided. Kids are welcome! \n \n \n\n			\n \n\n\n\njoin in person\nPropel Wellness Center: 1805 Buena Vista Street\, Pittsburgh\, PA 15212 \n \n \n\n\njoin online\nMeeting Link: https://us06web.zoom.us/j/89621773991 \nID: 896 2177 3991
URL:https://csacpa.org/event/community-planning-session/
LOCATION:Propel Northside\, 1805 Buena Vista Street\, Pittsburgh\, PA\, 15212\, United States
CATEGORIES:Community Meeting
ATTACH;FMTTYPE=image/jpeg:https://csacpa.org/wp-content/uploads/2022/07/Commons-Dash-BCI-Medium.jpg
END:VEVENT
BEGIN:VEVENT
DTSTART;TZID=America/New_York:20220727T180000
DTEND;TZID=America/New_York:20220727T193000
DTSTAMP:20260419T122915
CREATED:20220630T012100Z
LAST-MODIFIED:20220726T005341Z
UID:684-1658944800-1658950200@csacpa.org
SUMMARY:CSV Community Meeting: July 2022
DESCRIPTION:Description\nShare your thoughts\, ask questions\, and hear updates about Charles Street Valley during our community meeting! We meet every other month on the 4th Thursday of the month.  \nThis month’s guest is the design firm who will re-create a better parklet on Strauss. They want to hear your feedback on how they should design the playground. \nAll residents and stakeholders are welcome!  \n \n \n\n			\n \n\n\n\nhow to join\nThough we typically meet online due to COVID\, we’re taking advantage of the summer weather to gather in-person and outdoors. This meeting will take place at the Cross-Strauss Parklet. Virtual accommodation will be attempted\, but is not guaranteed due to the outdoor venue. \nEmail questions to: charlesstreetareacouncil@gmail.com \nNo RSVP required. 
URL:https://csacpa.org/event/csv-meeting-july-2022/
LOCATION:Cross-Strauss Parklet\, 50 Strauss Street\, Pittsburgh\, PA\, 15214\, United States
CATEGORIES:Community Meeting
ATTACH;FMTTYPE=image/jpeg:https://csacpa.org/wp-content/uploads/2022/04/pexels-christina-morillo-1181622-scaled.jpg
END:VEVENT
BEGIN:VEVENT
DTSTART;TZID=America/New_York:20220428T180000
DTEND;TZID=America/New_York:20220428T193000
DTSTAMP:20260419T122915
CREATED:20220428T050416Z
LAST-MODIFIED:20220630T011456Z
UID:78-1651168800-1651174200@csacpa.org
SUMMARY:CSV Community Meeting: April 2022
DESCRIPTION:If you want to learn more about the City of Pittsburgh’s upcoming budget process\, this is the meeting for you!\n \n \n\n			\n\n		\n \n\n\n\n\n\n\n\nDescription\nIn addition to discussing community level updates\, this community meeting will include a presentation from the City’s Office of Budget. Visit the City’s Budget Engage Page for insight into the current 2022 budget\, which will be re-examined this summer under Mayor Ed Gainey’s new administration. \nQuestions are welcome!  \n \n \n\n			\n \n\n\n\nJoin via Zoom\nMeeting Link: https://us02web.zoom.us/j/2600219000?pwd=MGNOUFM5cEhCOGZrdU1IOWZYdisyQT09 \nID: 2600219000 \nPasscode: 260021900
URL:https://csacpa.org/event/community-meeting-04-28-22/
LOCATION:Virtual: Zoom
CATEGORIES:Community Meeting
ATTACH;FMTTYPE=image/jpeg:https://csacpa.org/wp-content/uploads/2022/04/pexels-christina-morillo-1181622-scaled.jpg
END:VEVENT
END:VCALENDAR