BEGIN:VCALENDAR
VERSION:2.0
PRODID:-//Charles Street Area Corporation - ECPv6.15.20//NONSGML v1.0//EN
CALSCALE:GREGORIAN
METHOD:PUBLISH
X-ORIGINAL-URL:https://csacpa.org
X-WR-CALDESC:Events for Charles Street Area Corporation
REFRESH-INTERVAL;VALUE=DURATION:PT1H
X-Robots-Tag:noindex
X-PUBLISHED-TTL:PT1H
BEGIN:VTIMEZONE
TZID:America/New_York
BEGIN:DAYLIGHT
TZOFFSETFROM:-0500
TZOFFSETTO:-0400
TZNAME:EDT
DTSTART:20210314T070000
END:DAYLIGHT
BEGIN:STANDARD
TZOFFSETFROM:-0400
TZOFFSETTO:-0500
TZNAME:EST
DTSTART:20211107T060000
END:STANDARD
BEGIN:DAYLIGHT
TZOFFSETFROM:-0500
TZOFFSETTO:-0400
TZNAME:EDT
DTSTART:20220313T070000
END:DAYLIGHT
BEGIN:STANDARD
TZOFFSETFROM:-0400
TZOFFSETTO:-0500
TZNAME:EST
DTSTART:20221106T060000
END:STANDARD
BEGIN:DAYLIGHT
TZOFFSETFROM:-0500
TZOFFSETTO:-0400
TZNAME:EDT
DTSTART:20230312T070000
END:DAYLIGHT
BEGIN:STANDARD
TZOFFSETFROM:-0400
TZOFFSETTO:-0500
TZNAME:EST
DTSTART:20231105T060000
END:STANDARD
END:VTIMEZONE
BEGIN:VEVENT
DTSTART;TZID=America/New_York:20221011T180000
DTEND;TZID=America/New_York:20221011T193000
DTSTAMP:20260423T120707
CREATED:20220630T010842Z
LAST-MODIFIED:20220630T010927Z
UID:674-1665511200-1665516600@csacpa.org
SUMMARY:CSAC Board Meeting: October 2022
DESCRIPTION:Description\nThe CSAC Board of Directors meets monthly to share project updates\, discuss community concerns and priorities\, and plan initiatives. These meetings are attended by members of the board\, as well as partners\, guest speakers\, and local government representatives. \n \n \n\n			\n \n\n\n\nmore info\nWe post the meeting minutes and agendas from these sessions on our Board page so that you can stay informed! \nCheck the Event Calendar for our bi-monthly community meetings\, which any resident or stakeholder may attend.
URL:https://csacpa.org/event/csac-board-meeting-october-2022/
LOCATION:Virtual: Zoom
CATEGORIES:Board Meeting
ATTACH;FMTTYPE=image/jpeg:https://csacpa.org/wp-content/uploads/2022/06/pexels-fauxels-3183186-Medium.jpg
END:VEVENT
BEGIN:VEVENT
DTSTART;TZID=America/New_York:20221012T150000
DTEND;TZID=America/New_York:20221012T190000
DTSTAMP:20260423T120707
CREATED:20220920T222259Z
LAST-MODIFIED:20220920T222259Z
UID:894-1665586800-1665601200@csacpa.org
SUMMARY:Allegheny Dwellings Choice Neighborhoods Community Meeting
DESCRIPTION:Description\nAllegheny Dwellings Choice Neighborhoods Community Meeting. This will be an OPEN HOUSE style meeting to better serve diverse schedules. Come when you can and see what’s new with the Draft Plan! \n \n \n \n\n			\n \n\n\n\nJoin IN PERSON\nAllegheny Dwellings \n1710 Belleau Court – at the rear field and basketball court \nFor more information\, visit the Allegheny Dwellings Choice Neighborhoods website.
URL:https://csacpa.org/event/choice-neighborhoods-10-12-22/
LOCATION:Allegheny Dwellings\, 1710 Belleau Dr\, Pittsburgh\, 15212\, United States
CATEGORIES:Choice Neighborhoods,Community Meeting
ATTACH;FMTTYPE=image/jpeg:https://csacpa.org/wp-content/uploads/2022/09/CHOICE-MTG-10-12-22-.jpg
END:VEVENT
BEGIN:VEVENT
DTSTART;TZID=America/New_York:20221019T173000
DTEND;TZID=America/New_York:20221019T190000
DTSTAMP:20260423T120707
CREATED:20221017T222659Z
LAST-MODIFIED:20221020T222715Z
UID:981-1666200600-1666206000@csacpa.org
SUMMARY:Allegheny Dwellings Choice Neighborhoods Community Meeting
DESCRIPTION:Description\nIf you missed the in-person community meeting on October 12\, 2022\, this is a great opportunity to share your feedback about the Draft Plan!  \nThis will be the last Choice Neighborhoods Community Meeting before we submit the plan to HUD in December! \n \n \n\n			\n \n\n\n\nJoin via Zoom\nPlease RSVP on the Allegheny Dwellings Choice Neighborhoods website to receive the Zoom link. \nScan the QR code on the flyer\, or use the link below. \nRegister: https://www.alleghenydwellingschoice.org/events-1/choice-virtual-community-meeting
URL:https://csacpa.org/event/choice-neighborhoods-10-19-22/
LOCATION:Virtual: Zoom
CATEGORIES:Choice Neighborhoods
ATTACH;FMTTYPE=image/jpeg:https://csacpa.org/wp-content/uploads/2022/10/Choice-10.19.22.jpg
END:VEVENT
BEGIN:VEVENT
DTSTART;TZID=America/New_York:20221019T180000
DTEND;TZID=America/New_York:20221019T200000
DTSTAMP:20260423T120708
CREATED:20221017T221524Z
LAST-MODIFIED:20221020T221842Z
UID:975-1666202400-1666209600@csacpa.org
SUMMARY:Northside Leadership Conference Focus Group
DESCRIPTION:Description\nIs your Northside community group providing resources and services that you need? This is your opportunity to participate in a strategic planning conversation with the Northside Leadership Conference (NSLC). \nDo you need food? Job training? A therapist? Child care help? Mentoring programs for yourself and your teens? Better playgrounds? Vacant lots maintained? Rental or homebuyer assistance? Organized community events? \nTell the NSLC how they can serve you!  \n \n \n \n \n\n			\n \n\n\n\nBJ’s Event Center\nThis event is in person. Refreshments will be provided! \nAddress: 1439 Woods Run Avenue\, Pittsburgh\, PA 15212 \nDate: Wednesday\, October 19\, 2022 \nTime: 6:00 PM to 8:00 PM
URL:https://csacpa.org/event/nslc-focus-group/
LOCATION:BJ’s Event Center\, 1429 Woods Run Avenue\, Pittsburgh\, 15212\, United States
CATEGORIES:Community Meeting
ATTACH;FMTTYPE=image/jpeg:https://csacpa.org/wp-content/uploads/2022/10/NLC-Planning-Flyer.jpg
END:VEVENT
BEGIN:VEVENT
DTSTART;TZID=America/New_York:20221027T180000
DTEND;TZID=America/New_York:20221027T193000
DTSTAMP:20260423T120708
CREATED:20220630T012550Z
LAST-MODIFIED:20221017T140641Z
UID:687-1666893600-1666899000@csacpa.org
SUMMARY:CSV Community Meeting: October 2022
DESCRIPTION:Description\nShare your thoughts\, ask questions\, and hear updates about the Charles Street Valley during our community meeting! These meetings are held virtually\, every other month on the 4th Thursday of the month. \nAll residents and stakeholders are welcome!  \n \n \n\n			\n \n\n\n\nJoin via Zoom\nMeeting Link: https://us02web.zoom.us/j/2600219000?pwd=MGNOUFM5cEhCOGZrdU1IOWZYdisyQT09 \nID: 2600219000 \nPasscode: 260021900
URL:https://csacpa.org/event/csv-meeting-october-2022/
LOCATION:Virtual: Zoom
CATEGORIES:Community Meeting
ATTACH;FMTTYPE=image/jpeg:https://csacpa.org/wp-content/uploads/2022/04/pexels-christina-morillo-1181622-scaled.jpg
END:VEVENT
END:VCALENDAR